BEGIN:VCALENDAR
VERSION:2.0
PRODID:-//Cross Culture Church - ECPv5.7.0//NONSGML v1.0//EN
CALSCALE:GREGORIAN
METHOD:PUBLISH
X-WR-CALNAME:Cross Culture Church
X-ORIGINAL-URL:https://ccclithonia.org
X-WR-CALDESC:Events for Cross Culture Church
BEGIN:VTIMEZONE
TZID:America/New_York
BEGIN:DAYLIGHT
TZOFFSETFROM:-0500
TZOFFSETTO:-0400
TZNAME:EDT
DTSTART:20240310T070000
END:DAYLIGHT
BEGIN:STANDARD
TZOFFSETFROM:-0400
TZOFFSETTO:-0500
TZNAME:EST
DTSTART:20241103T060000
END:STANDARD
END:VTIMEZONE
BEGIN:VEVENT
DTSTART;TZID=America/New_York:20240629T103000
DTEND;TZID=America/New_York:20240629T130000
DTSTAMP:20260423T174154
CREATED:20240619T022731Z
LAST-MODIFIED:20240619T023241Z
UID:16800-1719657000-1719666000@ccclithonia.org
SUMMARY:VBS 2024
DESCRIPTION:
URL:https://ccclithonia.org/event/vbs-2024-3/
LOCATION:Cross Culture Church\, 6440 Rock Springs Road\, Lithonia\, GA\, 30038\, United States
CATEGORIES:Education
ATTACH;FMTTYPE=image/jpeg:https://ccclithonia.org/wp-content/uploads/2024/06/IMG_0201.jpg
END:VEVENT
END:VCALENDAR