BEGIN:VCALENDAR
VERSION:2.0
PRODID:-//Cross Culture Church - ECPv5.7.0//NONSGML v1.0//EN
CALSCALE:GREGORIAN
METHOD:PUBLISH
X-WR-CALNAME:Cross Culture Church
X-ORIGINAL-URL:https://ccclithonia.org
X-WR-CALDESC:Events for Cross Culture Church
BEGIN:VTIMEZONE
TZID:America/New_York
BEGIN:DAYLIGHT
TZOFFSETFROM:-0500
TZOFFSETTO:-0400
TZNAME:EDT
DTSTART:20260308T070000
END:DAYLIGHT
BEGIN:STANDARD
TZOFFSETFROM:-0400
TZOFFSETTO:-0500
TZNAME:EST
DTSTART:20261101T060000
END:STANDARD
END:VTIMEZONE
BEGIN:VEVENT
DTSTART;TZID=America/New_York:20260426T100000
DTEND;TZID=America/New_York:20260426T113000
DTSTAMP:20260422T142322
CREATED:20200809T021502Z
LAST-MODIFIED:20200809T021502Z
UID:17655-1777197600-1777203000@ccclithonia.org
SUMMARY:Worship Service
DESCRIPTION:
URL:https://ccclithonia.org/event/worship-service/2026-04-26/
LOCATION:CCC Facebook LIVE\, GA
CATEGORIES:Sunday Service
ATTACH;FMTTYPE=image/png:https://ccclithonia.org/wp-content/uploads/2020/08/IMG_0467-1.png
END:VEVENT
BEGIN:VEVENT
DTSTART;TZID=America/New_York:20260503T100000
DTEND;TZID=America/New_York:20260503T113000
DTSTAMP:20260422T142322
CREATED:20200809T021502Z
LAST-MODIFIED:20200809T021502Z
UID:17663-1777802400-1777807800@ccclithonia.org
SUMMARY:Worship Service
DESCRIPTION:
URL:https://ccclithonia.org/event/worship-service/2026-05-03/
LOCATION:CCC Facebook LIVE\, GA
CATEGORIES:Sunday Service
ATTACH;FMTTYPE=image/png:https://ccclithonia.org/wp-content/uploads/2020/08/IMG_0467-1.png
END:VEVENT
BEGIN:VEVENT
DTSTART;TZID=America/New_York:20260510T100000
DTEND;TZID=America/New_York:20260510T113000
DTSTAMP:20260422T142322
CREATED:20200809T021502Z
LAST-MODIFIED:20200809T021502Z
UID:17674-1778407200-1778412600@ccclithonia.org
SUMMARY:Worship Service
DESCRIPTION:
URL:https://ccclithonia.org/event/worship-service/2026-05-10/
LOCATION:CCC Facebook LIVE\, GA
CATEGORIES:Sunday Service
ATTACH;FMTTYPE=image/png:https://ccclithonia.org/wp-content/uploads/2020/08/IMG_0467-1.png
END:VEVENT
BEGIN:VEVENT
DTSTART;TZID=America/New_York:20260517T100000
DTEND;TZID=America/New_York:20260517T113000
DTSTAMP:20260422T142322
CREATED:20200809T021502Z
LAST-MODIFIED:20200809T021502Z
UID:17681-1779012000-1779017400@ccclithonia.org
SUMMARY:Worship Service
DESCRIPTION:
URL:https://ccclithonia.org/event/worship-service/2026-05-17/
LOCATION:CCC Facebook LIVE\, GA
CATEGORIES:Sunday Service
ATTACH;FMTTYPE=image/png:https://ccclithonia.org/wp-content/uploads/2020/08/IMG_0467-1.png
END:VEVENT
BEGIN:VEVENT
DTSTART;TZID=America/New_York:20260524T100000
DTEND;TZID=America/New_York:20260524T113000
DTSTAMP:20260422T142322
CREATED:20200809T021502Z
LAST-MODIFIED:20200809T021502Z
UID:17688-1779616800-1779622200@ccclithonia.org
SUMMARY:Worship Service
DESCRIPTION:
URL:https://ccclithonia.org/event/worship-service/2026-05-24/
LOCATION:CCC Facebook LIVE\, GA
CATEGORIES:Sunday Service
ATTACH;FMTTYPE=image/png:https://ccclithonia.org/wp-content/uploads/2020/08/IMG_0467-1.png
END:VEVENT
BEGIN:VEVENT
DTSTART;TZID=America/New_York:20260531T100000
DTEND;TZID=America/New_York:20260531T113000
DTSTAMP:20260422T142322
CREATED:20200809T021502Z
LAST-MODIFIED:20200809T021502Z
UID:17695-1780221600-1780227000@ccclithonia.org
SUMMARY:Worship Service
DESCRIPTION:
URL:https://ccclithonia.org/event/worship-service/2026-05-31/
LOCATION:CCC Facebook LIVE\, GA
CATEGORIES:Sunday Service
ATTACH;FMTTYPE=image/png:https://ccclithonia.org/wp-content/uploads/2020/08/IMG_0467-1.png
END:VEVENT
BEGIN:VEVENT
DTSTART;TZID=America/New_York:20260607T100000
DTEND;TZID=America/New_York:20260607T113000
DTSTAMP:20260422T142322
CREATED:20200809T021502Z
LAST-MODIFIED:20200809T021502Z
UID:17706-1780826400-1780831800@ccclithonia.org
SUMMARY:Worship Service
DESCRIPTION:
URL:https://ccclithonia.org/event/worship-service/2026-06-07/
LOCATION:CCC Facebook LIVE\, GA
CATEGORIES:Sunday Service
ATTACH;FMTTYPE=image/png:https://ccclithonia.org/wp-content/uploads/2020/08/IMG_0467-1.png
END:VEVENT
BEGIN:VEVENT
DTSTART;TZID=America/New_York:20260614T100000
DTEND;TZID=America/New_York:20260614T113000
DTSTAMP:20260422T142322
CREATED:20200809T021502Z
LAST-MODIFIED:20200809T021502Z
UID:17719-1781431200-1781436600@ccclithonia.org
SUMMARY:Worship Service
DESCRIPTION:
URL:https://ccclithonia.org/event/worship-service/2026-06-14/
LOCATION:CCC Facebook LIVE\, GA
CATEGORIES:Sunday Service
ATTACH;FMTTYPE=image/png:https://ccclithonia.org/wp-content/uploads/2020/08/IMG_0467-1.png
END:VEVENT
BEGIN:VEVENT
DTSTART;TZID=America/New_York:20260621T100000
DTEND;TZID=America/New_York:20260621T113000
DTSTAMP:20260422T142322
CREATED:20200809T021502Z
LAST-MODIFIED:20200809T021502Z
UID:17726-1782036000-1782041400@ccclithonia.org
SUMMARY:Worship Service
DESCRIPTION:
URL:https://ccclithonia.org/event/worship-service/2026-06-21/
LOCATION:CCC Facebook LIVE\, GA
CATEGORIES:Sunday Service
ATTACH;FMTTYPE=image/png:https://ccclithonia.org/wp-content/uploads/2020/08/IMG_0467-1.png
END:VEVENT
BEGIN:VEVENT
DTSTART;TZID=America/New_York:20260628T100000
DTEND;TZID=America/New_York:20260628T113000
DTSTAMP:20260422T142322
CREATED:20200809T021502Z
LAST-MODIFIED:20200809T021502Z
UID:17733-1782640800-1782646200@ccclithonia.org
SUMMARY:Worship Service
DESCRIPTION:
URL:https://ccclithonia.org/event/worship-service/2026-06-28/
LOCATION:CCC Facebook LIVE\, GA
CATEGORIES:Sunday Service
ATTACH;FMTTYPE=image/png:https://ccclithonia.org/wp-content/uploads/2020/08/IMG_0467-1.png
END:VEVENT
BEGIN:VEVENT
DTSTART;TZID=America/New_York:20260705T100000
DTEND;TZID=America/New_York:20260705T113000
DTSTAMP:20260422T142322
CREATED:20200809T021502Z
LAST-MODIFIED:20200809T021502Z
UID:17745-1783245600-1783251000@ccclithonia.org
SUMMARY:Worship Service
DESCRIPTION:
URL:https://ccclithonia.org/event/worship-service/2026-07-05/
LOCATION:CCC Facebook LIVE\, GA
CATEGORIES:Sunday Service
ATTACH;FMTTYPE=image/png:https://ccclithonia.org/wp-content/uploads/2020/08/IMG_0467-1.png
END:VEVENT
BEGIN:VEVENT
DTSTART;TZID=America/New_York:20260712T100000
DTEND;TZID=America/New_York:20260712T113000
DTSTAMP:20260422T142322
CREATED:20200809T021502Z
LAST-MODIFIED:20200809T021502Z
UID:17752-1783850400-1783855800@ccclithonia.org
SUMMARY:Worship Service
DESCRIPTION:
URL:https://ccclithonia.org/event/worship-service/2026-07-12/
LOCATION:CCC Facebook LIVE\, GA
CATEGORIES:Sunday Service
ATTACH;FMTTYPE=image/png:https://ccclithonia.org/wp-content/uploads/2020/08/IMG_0467-1.png
END:VEVENT
BEGIN:VEVENT
DTSTART;TZID=America/New_York:20260719T100000
DTEND;TZID=America/New_York:20260719T113000
DTSTAMP:20260422T142322
CREATED:20200809T021502Z
LAST-MODIFIED:20200809T021502Z
UID:17761-1784455200-1784460600@ccclithonia.org
SUMMARY:Worship Service
DESCRIPTION:
URL:https://ccclithonia.org/event/worship-service/2026-07-19/
LOCATION:CCC Facebook LIVE\, GA
CATEGORIES:Sunday Service
ATTACH;FMTTYPE=image/png:https://ccclithonia.org/wp-content/uploads/2020/08/IMG_0467-1.png
END:VEVENT
BEGIN:VEVENT
DTSTART;TZID=America/New_York:20260726T100000
DTEND;TZID=America/New_York:20260726T113000
DTSTAMP:20260422T142322
CREATED:20200809T021502Z
LAST-MODIFIED:20200809T021502Z
UID:17768-1785060000-1785065400@ccclithonia.org
SUMMARY:Worship Service
DESCRIPTION:
URL:https://ccclithonia.org/event/worship-service/2026-07-26/
LOCATION:CCC Facebook LIVE\, GA
CATEGORIES:Sunday Service
ATTACH;FMTTYPE=image/png:https://ccclithonia.org/wp-content/uploads/2020/08/IMG_0467-1.png
END:VEVENT
BEGIN:VEVENT
DTSTART;TZID=America/New_York:20260802T100000
DTEND;TZID=America/New_York:20260802T113000
DTSTAMP:20260422T142322
CREATED:20200809T021502Z
LAST-MODIFIED:20200809T021502Z
UID:17782-1785664800-1785670200@ccclithonia.org
SUMMARY:Worship Service
DESCRIPTION:
URL:https://ccclithonia.org/event/worship-service/2026-08-02/
LOCATION:CCC Facebook LIVE\, GA
CATEGORIES:Sunday Service
ATTACH;FMTTYPE=image/png:https://ccclithonia.org/wp-content/uploads/2020/08/IMG_0467-1.png
END:VEVENT
BEGIN:VEVENT
DTSTART;TZID=America/New_York:20260809T100000
DTEND;TZID=America/New_York:20260809T113000
DTSTAMP:20260422T142322
CREATED:20200809T021502Z
LAST-MODIFIED:20200809T021502Z
UID:17789-1786269600-1786275000@ccclithonia.org
SUMMARY:Worship Service
DESCRIPTION:
URL:https://ccclithonia.org/event/worship-service/2026-08-09/
LOCATION:CCC Facebook LIVE\, GA
CATEGORIES:Sunday Service
ATTACH;FMTTYPE=image/png:https://ccclithonia.org/wp-content/uploads/2020/08/IMG_0467-1.png
END:VEVENT
BEGIN:VEVENT
DTSTART;TZID=America/New_York:20260816T100000
DTEND;TZID=America/New_York:20260816T113000
DTSTAMP:20260422T142322
CREATED:20200809T021502Z
LAST-MODIFIED:20200809T021502Z
UID:17798-1786874400-1786879800@ccclithonia.org
SUMMARY:Worship Service
DESCRIPTION:
URL:https://ccclithonia.org/event/worship-service/2026-08-16/
LOCATION:CCC Facebook LIVE\, GA
CATEGORIES:Sunday Service
ATTACH;FMTTYPE=image/png:https://ccclithonia.org/wp-content/uploads/2020/08/IMG_0467-1.png
END:VEVENT
BEGIN:VEVENT
DTSTART;TZID=America/New_York:20260823T100000
DTEND;TZID=America/New_York:20260823T113000
DTSTAMP:20260422T142322
CREATED:20200809T021502Z
LAST-MODIFIED:20200809T021502Z
UID:17807-1787479200-1787484600@ccclithonia.org
SUMMARY:Worship Service
DESCRIPTION:
URL:https://ccclithonia.org/event/worship-service/2026-08-23/
LOCATION:CCC Facebook LIVE\, GA
CATEGORIES:Sunday Service
ATTACH;FMTTYPE=image/png:https://ccclithonia.org/wp-content/uploads/2020/08/IMG_0467-1.png
END:VEVENT
BEGIN:VEVENT
DTSTART;TZID=America/New_York:20260830T100000
DTEND;TZID=America/New_York:20260830T113000
DTSTAMP:20260422T142322
CREATED:20200809T021502Z
LAST-MODIFIED:20200809T021502Z
UID:17816-1788084000-1788089400@ccclithonia.org
SUMMARY:Worship Service
DESCRIPTION:
URL:https://ccclithonia.org/event/worship-service/2026-08-30/
LOCATION:CCC Facebook LIVE\, GA
CATEGORIES:Sunday Service
ATTACH;FMTTYPE=image/png:https://ccclithonia.org/wp-content/uploads/2020/08/IMG_0467-1.png
END:VEVENT
BEGIN:VEVENT
DTSTART;TZID=America/New_York:20260906T100000
DTEND;TZID=America/New_York:20260906T113000
DTSTAMP:20260422T142322
CREATED:20200809T021502Z
LAST-MODIFIED:20200809T021502Z
UID:17821-1788688800-1788694200@ccclithonia.org
SUMMARY:Worship Service
DESCRIPTION:
URL:https://ccclithonia.org/event/worship-service/2026-09-06/
LOCATION:CCC Facebook LIVE\, GA
CATEGORIES:Sunday Service
ATTACH;FMTTYPE=image/png:https://ccclithonia.org/wp-content/uploads/2020/08/IMG_0467-1.png
END:VEVENT
BEGIN:VEVENT
DTSTART;TZID=America/New_York:20260913T100000
DTEND;TZID=America/New_York:20260913T113000
DTSTAMP:20260422T142323
CREATED:20200809T021502Z
LAST-MODIFIED:20200809T021502Z
UID:17828-1789293600-1789299000@ccclithonia.org
SUMMARY:Worship Service
DESCRIPTION:
URL:https://ccclithonia.org/event/worship-service/2026-09-13/
LOCATION:CCC Facebook LIVE\, GA
CATEGORIES:Sunday Service
ATTACH;FMTTYPE=image/png:https://ccclithonia.org/wp-content/uploads/2020/08/IMG_0467-1.png
END:VEVENT
BEGIN:VEVENT
DTSTART;TZID=America/New_York:20260920T100000
DTEND;TZID=America/New_York:20260920T113000
DTSTAMP:20260422T142323
CREATED:20200809T021502Z
LAST-MODIFIED:20200809T021502Z
UID:17837-1789898400-1789903800@ccclithonia.org
SUMMARY:Worship Service
DESCRIPTION:
URL:https://ccclithonia.org/event/worship-service/2026-09-20/
LOCATION:CCC Facebook LIVE\, GA
CATEGORIES:Sunday Service
ATTACH;FMTTYPE=image/png:https://ccclithonia.org/wp-content/uploads/2020/08/IMG_0467-1.png
END:VEVENT
BEGIN:VEVENT
DTSTART;TZID=America/New_York:20260927T100000
DTEND;TZID=America/New_York:20260927T113000
DTSTAMP:20260422T142323
CREATED:20200809T021502Z
LAST-MODIFIED:20200809T021502Z
UID:17846-1790503200-1790508600@ccclithonia.org
SUMMARY:Worship Service
DESCRIPTION:
URL:https://ccclithonia.org/event/worship-service/2026-09-27/
LOCATION:CCC Facebook LIVE\, GA
CATEGORIES:Sunday Service
ATTACH;FMTTYPE=image/png:https://ccclithonia.org/wp-content/uploads/2020/08/IMG_0467-1.png
END:VEVENT
BEGIN:VEVENT
DTSTART;TZID=America/New_York:20261004T100000
DTEND;TZID=America/New_York:20261004T113000
DTSTAMP:20260422T142323
CREATED:20200809T021502Z
LAST-MODIFIED:20200809T021502Z
UID:17868-1791108000-1791113400@ccclithonia.org
SUMMARY:Worship Service
DESCRIPTION:
URL:https://ccclithonia.org/event/worship-service/2026-10-04/
LOCATION:CCC Facebook LIVE\, GA
CATEGORIES:Sunday Service
ATTACH;FMTTYPE=image/png:https://ccclithonia.org/wp-content/uploads/2020/08/IMG_0467-1.png
END:VEVENT
BEGIN:VEVENT
DTSTART;TZID=America/New_York:20261011T100000
DTEND;TZID=America/New_York:20261011T113000
DTSTAMP:20260422T142323
CREATED:20200809T021502Z
LAST-MODIFIED:20200809T021502Z
UID:17964-1791712800-1791718200@ccclithonia.org
SUMMARY:Worship Service
DESCRIPTION:
URL:https://ccclithonia.org/event/worship-service/2026-10-11/
LOCATION:CCC Facebook LIVE\, GA
CATEGORIES:Sunday Service
ATTACH;FMTTYPE=image/png:https://ccclithonia.org/wp-content/uploads/2020/08/IMG_0467-1.png
END:VEVENT
BEGIN:VEVENT
DTSTART;TZID=America/New_York:20261018T100000
DTEND;TZID=America/New_York:20261018T113000
DTSTAMP:20260422T142323
CREATED:20200809T021502Z
LAST-MODIFIED:20200809T021502Z
UID:17968-1792317600-1792323000@ccclithonia.org
SUMMARY:Worship Service
DESCRIPTION:
URL:https://ccclithonia.org/event/worship-service/2026-10-18/
LOCATION:CCC Facebook LIVE\, GA
CATEGORIES:Sunday Service
ATTACH;FMTTYPE=image/png:https://ccclithonia.org/wp-content/uploads/2020/08/IMG_0467-1.png
END:VEVENT
END:VCALENDAR