BEGIN:VCALENDAR
VERSION:2.0
PRODID:-//Cross Culture Church - ECPv5.7.0//NONSGML v1.0//EN
CALSCALE:GREGORIAN
METHOD:PUBLISH
X-WR-CALNAME:Cross Culture Church
X-ORIGINAL-URL:https://ccclithonia.org
X-WR-CALDESC:Events for Cross Culture Church
BEGIN:VTIMEZONE
TZID:America/New_York
BEGIN:DAYLIGHT
TZOFFSETFROM:-0500
TZOFFSETTO:-0400
TZNAME:EDT
DTSTART:20200308T070000
END:DAYLIGHT
BEGIN:STANDARD
TZOFFSETFROM:-0400
TZOFFSETTO:-0500
TZNAME:EST
DTSTART:20201101T060000
END:STANDARD
BEGIN:DAYLIGHT
TZOFFSETFROM:-0500
TZOFFSETTO:-0400
TZNAME:EDT
DTSTART:20210314T070000
END:DAYLIGHT
BEGIN:STANDARD
TZOFFSETFROM:-0400
TZOFFSETTO:-0500
TZNAME:EST
DTSTART:20211107T060000
END:STANDARD
BEGIN:DAYLIGHT
TZOFFSETFROM:-0500
TZOFFSETTO:-0400
TZNAME:EDT
DTSTART:20220313T070000
END:DAYLIGHT
BEGIN:STANDARD
TZOFFSETFROM:-0400
TZOFFSETTO:-0500
TZNAME:EST
DTSTART:20221106T060000
END:STANDARD
BEGIN:DAYLIGHT
TZOFFSETFROM:-0500
TZOFFSETTO:-0400
TZNAME:EDT
DTSTART:20230312T070000
END:DAYLIGHT
BEGIN:STANDARD
TZOFFSETFROM:-0400
TZOFFSETTO:-0500
TZNAME:EST
DTSTART:20231105T060000
END:STANDARD
BEGIN:DAYLIGHT
TZOFFSETFROM:-0500
TZOFFSETTO:-0400
TZNAME:EDT
DTSTART:20240310T070000
END:DAYLIGHT
BEGIN:STANDARD
TZOFFSETFROM:-0400
TZOFFSETTO:-0500
TZNAME:EST
DTSTART:20241103T060000
END:STANDARD
BEGIN:DAYLIGHT
TZOFFSETFROM:-0500
TZOFFSETTO:-0400
TZNAME:EDT
DTSTART:20250309T070000
END:DAYLIGHT
BEGIN:STANDARD
TZOFFSETFROM:-0400
TZOFFSETTO:-0500
TZNAME:EST
DTSTART:20251102T060000
END:STANDARD
BEGIN:DAYLIGHT
TZOFFSETFROM:-0500
TZOFFSETTO:-0400
TZNAME:EDT
DTSTART:20260308T070000
END:DAYLIGHT
BEGIN:STANDARD
TZOFFSETFROM:-0400
TZOFFSETTO:-0500
TZNAME:EST
DTSTART:20261101T060000
END:STANDARD
END:VTIMEZONE
BEGIN:VEVENT
DTSTART;TZID=America/New_York:20260419T083000
DTEND;TZID=America/New_York:20260419T093000
DTSTAMP:20260422T160213
CREATED:20200809T021255Z
LAST-MODIFIED:20200809T021255Z
UID:17646-1776587400-1776591000@ccclithonia.org
SUMMARY:Sunday School
DESCRIPTION:
URL:https://ccclithonia.org/event/sunday-school/2026-04-19/
LOCATION:CCC Facebook LIVE\, GA
CATEGORIES:Sunday School
ATTACH;FMTTYPE=image/png:https://ccclithonia.org/wp-content/uploads/2020/08/8582878c-3cfc-432d-9e62-eb825499867c_640x359.png
END:VEVENT
BEGIN:VEVENT
DTSTART;TZID=America/New_York:20260412T083000
DTEND;TZID=America/New_York:20260412T093000
DTSTAMP:20260422T160213
CREATED:20200809T021255Z
LAST-MODIFIED:20200809T021255Z
UID:17639-1775982600-1775986200@ccclithonia.org
SUMMARY:Sunday School
DESCRIPTION:
URL:https://ccclithonia.org/event/sunday-school/2026-04-12/
LOCATION:CCC Facebook LIVE\, GA
CATEGORIES:Sunday School
ATTACH;FMTTYPE=image/png:https://ccclithonia.org/wp-content/uploads/2020/08/8582878c-3cfc-432d-9e62-eb825499867c_640x359.png
END:VEVENT
BEGIN:VEVENT
DTSTART;TZID=America/New_York:20260405T083000
DTEND;TZID=America/New_York:20260405T093000
DTSTAMP:20260422T160213
CREATED:20200809T021255Z
LAST-MODIFIED:20200809T021255Z
UID:17632-1775377800-1775381400@ccclithonia.org
SUMMARY:Sunday School
DESCRIPTION:
URL:https://ccclithonia.org/event/sunday-school/2026-04-05/
LOCATION:CCC Facebook LIVE\, GA
CATEGORIES:Sunday School
ATTACH;FMTTYPE=image/png:https://ccclithonia.org/wp-content/uploads/2020/08/8582878c-3cfc-432d-9e62-eb825499867c_640x359.png
END:VEVENT
BEGIN:VEVENT
DTSTART;TZID=America/New_York:20260329T083000
DTEND;TZID=America/New_York:20260329T093000
DTSTAMP:20260422T160213
CREATED:20200809T021255Z
LAST-MODIFIED:20200809T021255Z
UID:17604-1774773000-1774776600@ccclithonia.org
SUMMARY:Sunday School
DESCRIPTION:
URL:https://ccclithonia.org/event/sunday-school/2026-03-29/
LOCATION:CCC Facebook LIVE\, GA
CATEGORIES:Sunday School
ATTACH;FMTTYPE=image/png:https://ccclithonia.org/wp-content/uploads/2020/08/8582878c-3cfc-432d-9e62-eb825499867c_640x359.png
END:VEVENT
BEGIN:VEVENT
DTSTART;TZID=America/New_York:20260322T083000
DTEND;TZID=America/New_York:20260322T093000
DTSTAMP:20260422T160213
CREATED:20200809T021255Z
LAST-MODIFIED:20200809T021255Z
UID:17595-1774168200-1774171800@ccclithonia.org
SUMMARY:Sunday School
DESCRIPTION:
URL:https://ccclithonia.org/event/sunday-school/2026-03-22/
LOCATION:CCC Facebook LIVE\, GA
CATEGORIES:Sunday School
ATTACH;FMTTYPE=image/png:https://ccclithonia.org/wp-content/uploads/2020/08/8582878c-3cfc-432d-9e62-eb825499867c_640x359.png
END:VEVENT
BEGIN:VEVENT
DTSTART;TZID=America/New_York:20260315T083000
DTEND;TZID=America/New_York:20260315T093000
DTSTAMP:20260422T160213
CREATED:20200809T021255Z
LAST-MODIFIED:20200809T021255Z
UID:17588-1773563400-1773567000@ccclithonia.org
SUMMARY:Sunday School
DESCRIPTION:
URL:https://ccclithonia.org/event/sunday-school/2026-03-15/
LOCATION:CCC Facebook LIVE\, GA
CATEGORIES:Sunday School
ATTACH;FMTTYPE=image/png:https://ccclithonia.org/wp-content/uploads/2020/08/8582878c-3cfc-432d-9e62-eb825499867c_640x359.png
END:VEVENT
BEGIN:VEVENT
DTSTART;TZID=America/New_York:20260308T083000
DTEND;TZID=America/New_York:20260308T093000
DTSTAMP:20260422T160213
CREATED:20200809T021255Z
LAST-MODIFIED:20200809T021255Z
UID:17579-1772958600-1772962200@ccclithonia.org
SUMMARY:Sunday School
DESCRIPTION:
URL:https://ccclithonia.org/event/sunday-school/2026-03-08/
LOCATION:CCC Facebook LIVE\, GA
CATEGORIES:Sunday School
ATTACH;FMTTYPE=image/png:https://ccclithonia.org/wp-content/uploads/2020/08/8582878c-3cfc-432d-9e62-eb825499867c_640x359.png
END:VEVENT
BEGIN:VEVENT
DTSTART;TZID=America/New_York:20260301T083000
DTEND;TZID=America/New_York:20260301T093000
DTSTAMP:20260422T160213
CREATED:20200809T021255Z
LAST-MODIFIED:20200809T021255Z
UID:17565-1772353800-1772357400@ccclithonia.org
SUMMARY:Sunday School
DESCRIPTION:
URL:https://ccclithonia.org/event/sunday-school/2026-03-01/
LOCATION:CCC Facebook LIVE\, GA
CATEGORIES:Sunday School
ATTACH;FMTTYPE=image/png:https://ccclithonia.org/wp-content/uploads/2020/08/8582878c-3cfc-432d-9e62-eb825499867c_640x359.png
END:VEVENT
BEGIN:VEVENT
DTSTART;TZID=America/New_York:20260222T083000
DTEND;TZID=America/New_York:20260222T093000
DTSTAMP:20260422T160213
CREATED:20200809T021255Z
LAST-MODIFIED:20200809T021255Z
UID:17554-1771749000-1771752600@ccclithonia.org
SUMMARY:Sunday School
DESCRIPTION:
URL:https://ccclithonia.org/event/sunday-school/2026-02-22/
LOCATION:CCC Facebook LIVE\, GA
CATEGORIES:Sunday School
ATTACH;FMTTYPE=image/png:https://ccclithonia.org/wp-content/uploads/2020/08/8582878c-3cfc-432d-9e62-eb825499867c_640x359.png
END:VEVENT
BEGIN:VEVENT
DTSTART;TZID=America/New_York:20260215T083000
DTEND;TZID=America/New_York:20260215T093000
DTSTAMP:20260422T160213
CREATED:20200809T021255Z
LAST-MODIFIED:20200809T021255Z
UID:17547-1771144200-1771147800@ccclithonia.org
SUMMARY:Sunday School
DESCRIPTION:
URL:https://ccclithonia.org/event/sunday-school/2026-02-15/
LOCATION:CCC Facebook LIVE\, GA
CATEGORIES:Sunday School
ATTACH;FMTTYPE=image/png:https://ccclithonia.org/wp-content/uploads/2020/08/8582878c-3cfc-432d-9e62-eb825499867c_640x359.png
END:VEVENT
BEGIN:VEVENT
DTSTART;TZID=America/New_York:20260208T083000
DTEND;TZID=America/New_York:20260208T093000
DTSTAMP:20260422T160213
CREATED:20200809T021255Z
LAST-MODIFIED:20200809T021255Z
UID:17540-1770539400-1770543000@ccclithonia.org
SUMMARY:Sunday School
DESCRIPTION:
URL:https://ccclithonia.org/event/sunday-school/2026-02-08/
LOCATION:CCC Facebook LIVE\, GA
CATEGORIES:Sunday School
ATTACH;FMTTYPE=image/png:https://ccclithonia.org/wp-content/uploads/2020/08/8582878c-3cfc-432d-9e62-eb825499867c_640x359.png
END:VEVENT
BEGIN:VEVENT
DTSTART;TZID=America/New_York:20260201T083000
DTEND;TZID=America/New_York:20260201T093000
DTSTAMP:20260422T160213
CREATED:20200809T021255Z
LAST-MODIFIED:20200809T021255Z
UID:17526-1769934600-1769938200@ccclithonia.org
SUMMARY:Sunday School
DESCRIPTION:
URL:https://ccclithonia.org/event/sunday-school/2026-02-01/
LOCATION:CCC Facebook LIVE\, GA
CATEGORIES:Sunday School
ATTACH;FMTTYPE=image/png:https://ccclithonia.org/wp-content/uploads/2020/08/8582878c-3cfc-432d-9e62-eb825499867c_640x359.png
END:VEVENT
BEGIN:VEVENT
DTSTART;TZID=America/New_York:20260125T083000
DTEND;TZID=America/New_York:20260125T093000
DTSTAMP:20260422T160213
CREATED:20200809T021255Z
LAST-MODIFIED:20200809T021255Z
UID:17517-1769329800-1769333400@ccclithonia.org
SUMMARY:Sunday School
DESCRIPTION:
URL:https://ccclithonia.org/event/sunday-school/2026-01-25/
LOCATION:CCC Facebook LIVE\, GA
CATEGORIES:Sunday School
ATTACH;FMTTYPE=image/png:https://ccclithonia.org/wp-content/uploads/2020/08/8582878c-3cfc-432d-9e62-eb825499867c_640x359.png
END:VEVENT
BEGIN:VEVENT
DTSTART;TZID=America/New_York:20260118T083000
DTEND;TZID=America/New_York:20260118T093000
DTSTAMP:20260422T160213
CREATED:20200809T021255Z
LAST-MODIFIED:20200809T021255Z
UID:17508-1768725000-1768728600@ccclithonia.org
SUMMARY:Sunday School
DESCRIPTION:
URL:https://ccclithonia.org/event/sunday-school/2026-01-18/
LOCATION:CCC Facebook LIVE\, GA
CATEGORIES:Sunday School
ATTACH;FMTTYPE=image/png:https://ccclithonia.org/wp-content/uploads/2020/08/8582878c-3cfc-432d-9e62-eb825499867c_640x359.png
END:VEVENT
BEGIN:VEVENT
DTSTART;TZID=America/New_York:20260111T083000
DTEND;TZID=America/New_York:20260111T093000
DTSTAMP:20260422T160213
CREATED:20200809T021255Z
LAST-MODIFIED:20200809T021255Z
UID:17495-1768120200-1768123800@ccclithonia.org
SUMMARY:Sunday School
DESCRIPTION:
URL:https://ccclithonia.org/event/sunday-school/2026-01-11/
LOCATION:CCC Facebook LIVE\, GA
CATEGORIES:Sunday School
ATTACH;FMTTYPE=image/png:https://ccclithonia.org/wp-content/uploads/2020/08/8582878c-3cfc-432d-9e62-eb825499867c_640x359.png
END:VEVENT
BEGIN:VEVENT
DTSTART;TZID=America/New_York:20260104T083000
DTEND;TZID=America/New_York:20260104T093000
DTSTAMP:20260422T160213
CREATED:20200809T021255Z
LAST-MODIFIED:20200809T021255Z
UID:17486-1767515400-1767519000@ccclithonia.org
SUMMARY:Sunday School
DESCRIPTION:
URL:https://ccclithonia.org/event/sunday-school/2026-01-04/
LOCATION:CCC Facebook LIVE\, GA
CATEGORIES:Sunday School
ATTACH;FMTTYPE=image/png:https://ccclithonia.org/wp-content/uploads/2020/08/8582878c-3cfc-432d-9e62-eb825499867c_640x359.png
END:VEVENT
BEGIN:VEVENT
DTSTART;TZID=America/New_York:20251228T083000
DTEND;TZID=America/New_York:20251228T093000
DTSTAMP:20260422T160213
CREATED:20200809T021255Z
LAST-MODIFIED:20200809T021255Z
UID:17453-1766910600-1766914200@ccclithonia.org
SUMMARY:Sunday School
DESCRIPTION:
URL:https://ccclithonia.org/event/sunday-school/2025-12-28/
LOCATION:CCC Facebook LIVE\, GA
CATEGORIES:Sunday School
ATTACH;FMTTYPE=image/png:https://ccclithonia.org/wp-content/uploads/2020/08/8582878c-3cfc-432d-9e62-eb825499867c_640x359.png
END:VEVENT
BEGIN:VEVENT
DTSTART;TZID=America/New_York:20251221T083000
DTEND;TZID=America/New_York:20251221T093000
DTSTAMP:20260422T160213
CREATED:20200809T021255Z
LAST-MODIFIED:20200809T021255Z
UID:17448-1766305800-1766309400@ccclithonia.org
SUMMARY:Sunday School
DESCRIPTION:
URL:https://ccclithonia.org/event/sunday-school/2025-12-21/
LOCATION:CCC Facebook LIVE\, GA
CATEGORIES:Sunday School
ATTACH;FMTTYPE=image/png:https://ccclithonia.org/wp-content/uploads/2020/08/8582878c-3cfc-432d-9e62-eb825499867c_640x359.png
END:VEVENT
BEGIN:VEVENT
DTSTART;TZID=America/New_York:20251214T083000
DTEND;TZID=America/New_York:20251214T093000
DTSTAMP:20260422T160213
CREATED:20200809T021255Z
LAST-MODIFIED:20200809T021255Z
UID:17439-1765701000-1765704600@ccclithonia.org
SUMMARY:Sunday School
DESCRIPTION:
URL:https://ccclithonia.org/event/sunday-school/2025-12-14/
LOCATION:CCC Facebook LIVE\, GA
CATEGORIES:Sunday School
ATTACH;FMTTYPE=image/png:https://ccclithonia.org/wp-content/uploads/2020/08/8582878c-3cfc-432d-9e62-eb825499867c_640x359.png
END:VEVENT
BEGIN:VEVENT
DTSTART;TZID=America/New_York:20251207T083000
DTEND;TZID=America/New_York:20251207T093000
DTSTAMP:20260422T160213
CREATED:20200809T021255Z
LAST-MODIFIED:20200809T021255Z
UID:17430-1765096200-1765099800@ccclithonia.org
SUMMARY:Sunday School
DESCRIPTION:
URL:https://ccclithonia.org/event/sunday-school/2025-12-07/
LOCATION:CCC Facebook LIVE\, GA
CATEGORIES:Sunday School
ATTACH;FMTTYPE=image/png:https://ccclithonia.org/wp-content/uploads/2020/08/8582878c-3cfc-432d-9e62-eb825499867c_640x359.png
END:VEVENT
BEGIN:VEVENT
DTSTART;TZID=America/New_York:20251130T083000
DTEND;TZID=America/New_York:20251130T093000
DTSTAMP:20260422T160213
CREATED:20200809T021255Z
LAST-MODIFIED:20200809T021255Z
UID:17419-1764491400-1764495000@ccclithonia.org
SUMMARY:Sunday School
DESCRIPTION:
URL:https://ccclithonia.org/event/sunday-school/2025-11-30/
LOCATION:CCC Facebook LIVE\, GA
CATEGORIES:Sunday School
ATTACH;FMTTYPE=image/png:https://ccclithonia.org/wp-content/uploads/2020/08/8582878c-3cfc-432d-9e62-eb825499867c_640x359.png
END:VEVENT
BEGIN:VEVENT
DTSTART;TZID=America/New_York:20251123T083000
DTEND;TZID=America/New_York:20251123T093000
DTSTAMP:20260422T160213
CREATED:20200809T021255Z
LAST-MODIFIED:20200809T021255Z
UID:17407-1763886600-1763890200@ccclithonia.org
SUMMARY:Sunday School
DESCRIPTION:
URL:https://ccclithonia.org/event/sunday-school/2025-11-23/
LOCATION:CCC Facebook LIVE\, GA
CATEGORIES:Sunday School
ATTACH;FMTTYPE=image/png:https://ccclithonia.org/wp-content/uploads/2020/08/8582878c-3cfc-432d-9e62-eb825499867c_640x359.png
END:VEVENT
BEGIN:VEVENT
DTSTART;TZID=America/New_York:20251116T083000
DTEND;TZID=America/New_York:20251116T093000
DTSTAMP:20260422T160213
CREATED:20200809T021255Z
LAST-MODIFIED:20200809T021255Z
UID:17402-1763281800-1763285400@ccclithonia.org
SUMMARY:Sunday School
DESCRIPTION:
URL:https://ccclithonia.org/event/sunday-school/2025-11-16/
LOCATION:CCC Facebook LIVE\, GA
CATEGORIES:Sunday School
ATTACH;FMTTYPE=image/png:https://ccclithonia.org/wp-content/uploads/2020/08/8582878c-3cfc-432d-9e62-eb825499867c_640x359.png
END:VEVENT
BEGIN:VEVENT
DTSTART;TZID=America/New_York:20251109T083000
DTEND;TZID=America/New_York:20251109T093000
DTSTAMP:20260422T160213
CREATED:20200809T021255Z
LAST-MODIFIED:20200809T021255Z
UID:17395-1762677000-1762680600@ccclithonia.org
SUMMARY:Sunday School
DESCRIPTION:
URL:https://ccclithonia.org/event/sunday-school/2025-11-09/
LOCATION:CCC Facebook LIVE\, GA
CATEGORIES:Sunday School
ATTACH;FMTTYPE=image/png:https://ccclithonia.org/wp-content/uploads/2020/08/8582878c-3cfc-432d-9e62-eb825499867c_640x359.png
END:VEVENT
BEGIN:VEVENT
DTSTART;TZID=America/New_York:20251102T083000
DTEND;TZID=America/New_York:20251102T093000
DTSTAMP:20260422T160213
CREATED:20200809T021255Z
LAST-MODIFIED:20200809T021255Z
UID:17379-1762072200-1762075800@ccclithonia.org
SUMMARY:Sunday School
DESCRIPTION:
URL:https://ccclithonia.org/event/sunday-school/2025-11-02/
LOCATION:CCC Facebook LIVE\, GA
CATEGORIES:Sunday School
ATTACH;FMTTYPE=image/png:https://ccclithonia.org/wp-content/uploads/2020/08/8582878c-3cfc-432d-9e62-eb825499867c_640x359.png
END:VEVENT
BEGIN:VEVENT
DTSTART;TZID=America/New_York:20251026T083000
DTEND;TZID=America/New_York:20251026T093000
DTSTAMP:20260422T160213
CREATED:20200809T021255Z
LAST-MODIFIED:20200809T021255Z
UID:17370-1761467400-1761471000@ccclithonia.org
SUMMARY:Sunday School
DESCRIPTION:
URL:https://ccclithonia.org/event/sunday-school/2025-10-26/
LOCATION:CCC Facebook LIVE\, GA
CATEGORIES:Sunday School
ATTACH;FMTTYPE=image/png:https://ccclithonia.org/wp-content/uploads/2020/08/8582878c-3cfc-432d-9e62-eb825499867c_640x359.png
END:VEVENT
BEGIN:VEVENT
DTSTART;TZID=America/New_York:20200809T083000
DTEND;TZID=America/New_York:20200809T093000
DTSTAMP:20260422T160213
CREATED:20200809T021255Z
LAST-MODIFIED:20200823T164906Z
UID:11979-1596961800-1596965400@ccclithonia.org
SUMMARY:Sunday School
DESCRIPTION:
URL:https://ccclithonia.org/event/sunday-school/2020-08-09/
LOCATION:CCC Facebook LIVE\, GA
CATEGORIES:Sunday School
ATTACH;FMTTYPE=image/png:https://ccclithonia.org/wp-content/uploads/2020/08/8582878c-3cfc-432d-9e62-eb825499867c_640x359.png
END:VEVENT
END:VCALENDAR