BEGIN:VCALENDAR
VERSION:2.0
PRODID:-//Cross Culture Church - ECPv5.7.0//NONSGML v1.0//EN
CALSCALE:GREGORIAN
METHOD:PUBLISH
X-WR-CALNAME:Cross Culture Church
X-ORIGINAL-URL:https://ccclithonia.org
X-WR-CALDESC:Events for Cross Culture Church
BEGIN:VTIMEZONE
TZID:America/New_York
BEGIN:DAYLIGHT
TZOFFSETFROM:-0500
TZOFFSETTO:-0400
TZNAME:EDT
DTSTART:20250309T070000
END:DAYLIGHT
BEGIN:STANDARD
TZOFFSETFROM:-0400
TZOFFSETTO:-0500
TZNAME:EST
DTSTART:20251102T060000
END:STANDARD
END:VTIMEZONE
BEGIN:VEVENT
DTSTART;TZID=America/New_York:20250106T190000
DTEND;TZID=America/New_York:20250106T203000
DTSTAMP:20260423T144750
CREATED:20250105T195151Z
LAST-MODIFIED:20250105T195812Z
UID:17096-1736190000-1736195400@ccclithonia.org
SUMMARY:Prayer & Consecration-"Days of Glory"
DESCRIPTION:
URL:https://ccclithonia.org/event/prayer-consecration-days-of-glory/2025-01-06/
LOCATION:Cross Culture Church\, 6440 Rock Springs Road\, Lithonia\, GA\, 30038\, United States
CATEGORIES:Special
ATTACH;FMTTYPE=image/jpeg:https://ccclithonia.org/wp-content/uploads/2025/01/IMG_0847-e1736106627761.jpg
END:VEVENT
END:VCALENDAR